Workbook
Name highlight: '2 Settings'!$G$12
Name Select_Assignment_Type: '2 Settings'!$C$12:$C$19

Sheet 1 Intro
E22: *Please note: this is a test version.

Sheet 2 Settings
I4: {=IF(SUM(IF($J$13:$J$25<=$J$12:$J$24,1,0))=0,"","Values below are not in ascending order (smallest to largest). Please adjust red cells.")}
F10: Select Answer Below
F11: Yes | J11: Value | K11: Grade | L11: Description
G12: =IF(F11="Yes",TRUE,FALSE) -> TRUE | J12: 0 | K12: F | L12: =K12 -> F | M12: ="= greater than or equal to "&TEXT(J12,"0.0%")&" and below "&TEXT(J13,"0.0%") -> = greater than or equal to 0.0% and below 60.0%
J13: 0.6 | K13: D- | L13: =K13 -> D- | M13: ="= greater than or equal to "&TEXT(J13,"0.0%")&" and below "&TEXT(J14,"0.0%") -> = greater than or equal to 60.0% and below 63.0%
J14: 0.63 | K14: D | L14: =K14 -> D | M14: ="= greater than or equal to "&TEXT(J14,"0.0%")&" and below "&TEXT(J15,"0.0%") -> = greater than or equal to 63.0% and below 66.0%
J15: 0.66 | K15: D+ | L15: =K15 -> D+ | M15: ="= greater than or equal to "&TEXT(J15,"0.0%")&" and below "&TEXT(J16,"0.0%") -> = greater than or equal to 66.0% and below 70.0%
J16: 0.7 | K16: C- | L16: =K16 -> C- | M16: ="= greater than or equal to "&TEXT(J16,"0.0%")&" and below "&TEXT(J17,"0.0%") -> = greater than or equal to 70.0% and below 73.0%
J17: 0.73 | K17: C | L17: =K17 -> C | M17: ="= greater than or equal to "&TEXT(J17,"0.0%")&" and below "&TEXT(J18,"0.0%") -> = greater than or equal to 73.0% and below 76.0%
F18: Select Answer Below | J18: 0.76 | K18: C+ | L18: =K18 -> C+ | M18: ="= greater than or equal to "&TEXT(J18,"0.0%")&" and below "&TEXT(J19,"0.0%") -> = greater than or equal to 76.0% and below 80.0%
F19: Yes | J19: 0.8 | K19: B- | L19: =K19 -> B- | M19: ="= greater than or equal to "&TEXT(J19,"0.0%")&" and below "&TEXT(J20,"0.0%") -> = greater than or equal to 80.0% and below 83.0%
J20: 0.83 | K20: B | L20: =K20 -> B | M20: ="= greater than or equal to "&TEXT(J20,"0.0%")&" and below "&TEXT(J21,"0.0%") -> = greater than or equal to 83.0% and below 86.0%
J21: 0.86 | K21: B+ | L21: =K21 -> B+ | M21: ="= greater than or equal to "&TEXT(J21,"0.0%")&" and below "&TEXT(J22,"0.0%") -> = greater than or equal to 86.0% and below 90.0%
J22: 0.9 | K22: A- | L22: =K22 -> A- | M22: ="= greater than or equal to "&TEXT(J22,"0.0%")&" and below "&TEXT(J23,"0.0%") -> = greater than or equal to 90.0% and below 93.0%
J23: 0.93 | K23: A | L23: =K23 -> A | M23: ="= greater than or equal to "&TEXT(J23,"0.0%")&" and below "&TEXT(J24,"0.0%") -> = greater than or equal to 93.0% and below 96.0%
J24: 0.96 | K24: A+ | L24: =K24 -> A+ | M24: ="= greater than or equal to "&TEXT(J24,"0.0%") -> = greater than or equal to 96.0%
J25: 2

Sheet 3 Instructions
B2: Geography | G2: Pls enter 'Perfect Score' | K2: =IF(AND(K$12=TRUE,K$8<>"",K$9<>"",K$10<>""),"",IF(AND(K$12=TRUE,K$8=""),"Pls fill out Set-up Step 1",IF(AND(K$12=TRUE,K$9=""),"Pls fill out Set-up Step 2",IF(AND(K$12=TRUE,K$10=""),"Pls fill out Set-up Step 3","")))) | L2: =IF(AND(L$12=TRUE,L$8<>"",L$9<>"",L$10<>""),"",IF(AND(L$12=TRUE,L$8=""),"Pls fill out Set-up Step 1",IF(AND(L$12=TRUE,L$9=""),"Pls fill out Set-up Step 2",IF(AND(L$12=TRUE,L$10=""),"Pls fill out Set-up Step 3","")))) | M2: =IF(AND(M$12=TRUE,M$8<>"",M$9<>"",M$10<>""),"",IF(AND(M$12=TRUE,M$8=""),"Pls fill out Set-up Step 1",IF(AND(M$12=TRUE,M$9=""),"Pls fill out Set-up Step 2",IF(AND(M$12=TRUE,M$10=""),"Pls fill out Set-up Step 3","")))) | N2: =IF(AND(N$12=TRUE,N$8<>"",N$9<>"",N$10<>""),"",IF(AND(N$12=TRUE,N$8=""),"Pls fill out Set-up Step 1",IF(AND(N$12=TRUE,N$9=""),"Pls fill out Set-up Step 2",IF(AND(N$12=TRUE,N$10=""),"Pls fill out Set-up Step 3","")))) | O2: =IF(AND(O$12=TRUE,O$8<>"",O$9<>"",O$10<>""),"",IF(AND(O$12=TRUE,O$8=""),"Pls fill out Set-up Step 1",IF(AND(O$12=TRUE,O$9=""),"Pls fill out Set-up Step 2",IF(AND(O$12=TRUE,O$10=""),"Pls fill out Set-up Step 3","")))) | P2: =IF(AND(P$12=TRUE,P$8<>"",P$9<>"",P$10<>""),"",IF(AND(P$12=TRUE,P$8=""),"Pls fill out Set-up Step 1",IF(AND(P$12=TRUE,P$9=""),"Pls fill out Set-up Step 2",IF(AND(P$12=TRUE,P$10=""),"Pls fill out Set-up Step 3","")))) | Q2: =IF(AND(Q$12=TRUE,Q$8<>"",Q$9<>"",Q$10<>""),"",IF(AND(Q$12=TRUE,Q$8=""),"Pls fill out Set-up Step 1",IF(AND(Q$12=TRUE,Q$9=""),"Pls fill out Set-up Step 2",IF(AND(Q$12=TRUE,Q$10=""),"Pls fill out Set-up Step 3","")))) | R2: =IF(AND(R$12=TRUE,R$8<>"",R$9<>"",R$10<>""),"",IF(AND(R$12=TRUE,R$8=""),"Pls fill out Set-up Step 1",IF(AND(R$12=TRUE,R$9=""),"Pls fill out Set-up Step 2",IF(AND(R$12=TRUE,R$10=""),"Pls fill out Set-up Step 3","")))) | ... X2: =IF(AND(X$12=TRUE,X$8<>"",X$9<>"",X$10<>""),"",IF(AND(X$12=TRUE,X$8=""),"Pls fill out Set-up Step 1",IF(AND(X$12=TRUE,X$9=""),"Pls fill out Set-up Step 2",IF(AND(X$12=TRUE,X$10=""),"Pls fill out Set-up Step 3",""))))
D4: Average | E4: 3.6666667 | F4: 10.666667 | G4: 20.25 | H4: 11.333333 | I4: 9 | J4: 65
D6: Pass | E6: 1 out of 3 | F6: 3 out of 3 | G6: 3 out of 4 | H6: 3 out of 3 | J6: 2 out of 2
D8: Perfect Score | E8: 10 | F8: 15 | H8: 15 | I8: 15 | J8: 100
D9: Pass Score | E9: 5 | F9: 7.5 | G9: 5 | H9: 7.5 | I9: 7.5 | J9: 50
D10: Weight | E10: 5 | F10: 5 | G10: 5 | H10: 5 | I10: 5 | J10: 20
D11: Date | E11: 41178 | F11: 41223 | G11: 41260 | H11: 41296 | I11: 41345 | J11: 41382
D12: Include? | E12: FALSE | F12: TRUE | G12: TRUE | H12: TRUE | I12: TRUE | J12: TRUE | K12: FALSE | L12: FALSE | M12: FALSE | N12: FALSE | O12: FALSE | P12: FALSE | Q12: FALSE | R12: FALSE | S12: FALSE | T12: FALSE | U12: FALSE | V12: FALSE | W12: FALSE | X12: FALSE
B14: Student_Name | C14: Grade% | D14: Letter | E14: Quiz | F14: Quiz2 | G14: Test | H14: Quiz3 | I14: Quiz4 | J14: Exam
B15: Dan | C15: 0.83333333 | D15: B | E15: 5 | F15: 15 | G15: 25 | H15: 15 | I15: 12
B16: Fred
B17: Betty | C17: 0.45809524 | D17: F | E17: 3 | F17: 5 | G17: 12 | H17: 8 | I17: 9
B18: Raj | G18: 25
B19: Pierre | C19: 0.71333333 | D19: C- | E19: 3 | F19: 12 | G19: 19 | H19: 11 | I19: 6 | J19: 79
B20: Kevin
D38: =IF(C38="","",INDEX('2 Settings'!$K$12:$K$25,MATCH(Instruc[[#This Row],[Grade%]],'2 Settings'!$J$12:$J$25,TRUE)))
D39: =IF(C39="","",INDEX('2 Settings'!$K$12:$K$25,MATCH(Instruc[[#This Row],[Grade%]],'2 Settings'!$J$12:$J$25,TRUE)))

Sheet Class#1
B1: Math | D1: =COUNTIF($E$11:$X$11,TRUE) -> 1 | E1: =IF(AND(E$11=TRUE,E$7<>"",E$8<>"",E$9<>""),"",IF(AND(E$11=TRUE,E$7=""),"Pls enter 'Perfect Score'",IF(AND(E$11=TRUE,E$8=""),"Pls enter 'Pass Score'",IF(AND(E$11=TRUE,E$9=""),"Pls enter 'Weight'","")))) -> Pls enter 'Perfect Score' | F1: =IF(AND(F$11=TRUE,F$7<>"",F$8<>"",F$9<>""),"",IF(AND(F$11=TRUE,F$7=""),"Pls enter 'Perfect Score'",IF(AND(F$11=TRUE,F$8=""),"Pls enter 'Pass Score'",IF(AND(F$11=TRUE,F$9=""),"Pls enter 'Weight'","")))) | G1: =IF(AND(G$11=TRUE,G$7<>"",G$8<>"",G$9<>""),"",IF(AND(G$11=TRUE,G$7=""),"Pls enter 'Perfect Score'",IF(AND(G$11=TRUE,G$8=""),"Pls enter 'Pass Score'",IF(AND(G$11=TRUE,G$9=""),"Pls enter 'Weight'","")))) | H1: =IF(AND(H$11=TRUE,H$7<>"",H$8<>"",H$9<>""),"",IF(AND(H$11=TRUE,H$7=""),"Pls enter 'Perfect Score'",IF(AND(H$11=TRUE,H$8=""),"Pls enter 'Pass Score'",IF(AND(H$11=TRUE,H$9=""),"Pls enter 'Weight'","")))) | I1: =IF(AND(I$11=TRUE,I$7<>"",I$8<>"",I$9<>""),"",IF(AND(I$11=TRUE,I$7=""),"Pls enter 'Perfect Score'",IF(AND(I$11=TRUE,I$8=""),"Pls enter 'Pass Score'",IF(AND(I$11=TRUE,I$9=""),"Pls enter 'Weight'","")))) | J1: =IF(AND(J$11=TRUE,J$7<>"",J$8<>"",J$9<>""),"",IF(AND(J$11=TRUE,J$7=""),"Pls enter 'Perfect Score'",IF(AND(J$11=TRUE,J$8=""),"Pls enter 'Pass Score'",IF(AND(J$11=TRUE,J$9=""),"Pls enter 'Weight'","")))) | K1: =IF(AND(K$11=TRUE,K$7<>"",K$8<>"",K$9<>""),"",IF(AND(K$11=TRUE,K$7=""),"Pls enter 'Perfect Score'",IF(AND(K$11=TRUE,K$8=""),"Pls enter 'Pass Score'",IF(AND(K$11=TRUE,K$9=""),"Pls enter 'Weight'","")))) | L1: =IF(AND(L$11=TRUE,L$7<>"",L$8<>"",L$9<>""),"",IF(AND(L$11=TRUE,L$7=""),"Pls enter 'Perfect Score'",IF(AND(L$11=TRUE,L$8=""),"Pls enter 'Pass Score'",IF(AND(L$11=TRUE,L$9=""),"Pls enter 'Weight'","")))) | ... X1: =IF(AND(X$11=TRUE,X$7<>"",X$8<>"",X$9<>""),"",IF(AND(X$11=TRUE,X$7=""),"Pls enter 'Perfect Score'",IF(AND(X$11=TRUE,X$8=""),"Pls enter 'Pass Score'",IF(AND(X$11=TRUE,X$9=""),"Pls enter 'Weight'",""))))
D2: FALSE
D3: Average | E3: =IF(SUM(Class2[Input1])=0,"",AVERAGE(Class2[Input1])) | F3: =IF(SUM(Class2[Input2])=0,"",AVERAGE(Class2[Input2])) | G3: =IF(SUM(Class2[Input3])=0,"",AVERAGE(Class2[Input3])) | H3: =IF(SUM(Class2[Input4])=0,"",AVERAGE(Class2[Input4])) | I3: =IF(SUM(Class2[Input5])=0,"",AVERAGE(Class2[Input5])) | J3: =IF(SUM(Class2[Input6])=0,"",AVERAGE(Class2[Input6])) | K3: =IF(SUM(Class2[Input7])=0,"",AVERAGE(Class2[Input7])) | L3: =IF(SUM(Class2[Input8])=0,"",AVERAGE(Class2[Input8])) | M3: =IF(SUM(Class2[Input9])=0,"",AVERAGE(Class2[Input9])) | N3: =IF(SUM(Class2[Input10])=0,"",AVERAGE(Class2[Input10])) | O3: =IF(SUM(Class2[Input11])=0,"",AVERAGE(Class2[Input11])) | P3: =IF(SUM(Class2[Input12])=0,"",AVERAGE(Class2[Input12])) | Q3: =IF(SUM(Class2[Input13])=0,"",AVERAGE(Class2[Input13])) | R3: =IF(SUM(Class2[Input14])=0,"",AVERAGE(Class2[Input14])) | S3: =IF(SUM(Class2[Input15])=0,"",AVERAGE(Class2[Input15])) | T3: =IF(SUM(Class2[Input16])=0,"",AVERAGE(Class2[Input16])) | U3: =IF(SUM(Class2[Input17])=0,"",AVERAGE(Class2[Input17])) | V3: =IF(SUM(Class2[Input18])=0,"",AVERAGE(Class2[Input18])) | W3: =IF(SUM(Class2[Input19])=0,"",AVERAGE(Class2[Input19])) | X3: =IF(SUM(Class2[Input20])=0,"",AVERAGE(Class2[Input20]))
D5: Pass | E5: =IF(E11=FALSE,"",COUNTIF(Class2[Input1],">="&E8)&" out of "&COUNT(Class2[Input1])) -> 0 out of 0 | F5: =IF(F11=FALSE,"",COUNTIF(Class2[Input2],">="&F8)&" out of "&COUNT(Class2[Input2])) | G5: =IF(G11=FALSE,"",COUNTIF(Class2[Input3],">="&G8)&" out of "&COUNT(Class2[Input3])) | H5: =IF(H11=FALSE,"",COUNTIF(Class2[Input4],">="&H8)&" out of "&COUNT(Class2[Input4])) | I5: =IF(I11=FALSE,"",COUNTIF(Class2[Input5],">="&I8)&" out of "&COUNT(Class2[Input5])) | J5: =IF(J11=FALSE,"",COUNTIF(Class2[Input6],">="&J8)&" out of "&COUNT(Class2[Input6])) | K5: =IF(K11=FALSE,"",COUNTIF(Class2[Input7],">="&K8)&" out of "&COUNT(Class2[Input7])) | L5: =IF(L11=FALSE,"",COUNTIF(Class2[Input8],">="&L8)&" out of "&COUNT(Class2[Input8])) | M5: =IF(M11=FALSE,"",COUNTIF(Class2[Input9],">="&M8)&" out of "&COUNT(Class2[Input9])) | N5: =IF(N11=FALSE,"",COUNTIF(Class2[Input10],">="&N8)&" out of "&COUNT(Class2[Input10])) | O5: =IF(O11=FALSE,"",COUNTIF(Class2[Input11],">="&O8)&" out of "&COUNT(Class2[Input11])) | P5: =IF(P11=FALSE,"",COUNTIF(Class2[Input12],">="&P8)&" out of "&COUNT(Class2[Input12])) | Q5: =IF(Q11=FALSE,"",COUNTIF(Class2[Input13],">="&Q8)&" out of "&COUNT(Class2[Input13])) | R5: =IF(R11=FALSE,"",COUNTIF(Class2[Input14],">="&R8)&" out of "&COUNT(Class2[Input14])) | S5: =IF(S11=FALSE,"",COUNTIF(Class2[Input15],">="&S8)&" out of "&COUNT(Class2[Input15])) | T5: =IF(T11=FALSE,"",COUNTIF(Class2[Input16],">="&T8)&" out of "&COUNT(Class2[Input16])) | U5: =IF(U11=FALSE,"",COUNTIF(Class2[Input17],">="&U8)&" out of "&COUNT(Class2[Input17])) | V5: =IF(V11=FALSE,"",COUNTIF(Class2[Input18],">="&V8)&" out of "&COUNT(Class2[Input18])) | W5: =IF(W11=FALSE,"",COUNTIF(Class2[Input19],">="&W8)&" out of "&COUNT(Class2[Input19])) | X5: =IF(X11=FALSE,"",COUNTIF(Class2[Input20],">="&X8)&" out of "&COUNT(Class2[Input20]))
D7: Perfect Score
D8: Pass Score
D9: Weight
D10: Date
D11: Include? | E11: TRUE | F11: FALSE | G11: FALSE | H11: FALSE | I11: FALSE | J11: FALSE | K11: FALSE | L11: FALSE | M11: FALSE | N11: FALSE | O11: FALSE | P11: FALSE | Q11: FALSE | R11: FALSE | S11: FALSE | T11: FALSE | U11: FALSE | V11: FALSE | W11: FALSE | X11: FALSE
C12: =IF('2 Settings'!F19="No","",IF('2 Settings'!F19="Yes",IFERROR(AVERAGE(Class2[Grade%]),""),"")) | D12: =IF(C12="","",INDEX('2 Settings'!$K$12:$K$25,MATCH(C12,'2 Settings'!$J$12:$J$25,TRUE)))
B13: Student_Name | C13: Grade% | D13: Letter | E13: Input1 | F13: Input2 | G13: Input3 | H13: Input4 | I13: Input5 | J13: Input6 | K13: Input7 | L13: Input8 | M13: Input9 | N13: Input10 | O13: Input11 | P13: Input12 | Q13: Input13 | R13: Input14 | S13: Input15 | T13: Input16 | U13: Input17 | V13: Input18 | W13: Input19 | X13: Input20
C14: {=IF($B14="","", IF($D$1=0,"", IF(AND(COUNTIFS(Class2[[#This Row],[Input1]:[Input20]],0,$E$11:$X$11,TRUE)>0,SUM(Class2[[#This Row],[Input1]:[Input20]])=0 ),0, IF(COUNT(Class2[[#This Row],[Input1]:[Input20]])=0,"", IF( SUM(Class2[[#This Row],[Input1]:[Input20]]*$E$11:$X$11) =0,"", IFERROR(SUM(IF($E$11:$X$11=TRUE,IF(Class2[[#This Row],[Input1]:[Input20]]<>"",Class2[[#This Row],[Input1]:[Input20]]/$E$7:$X$7*$E$9:$X$9,"")))/SUM(IF($E$11:$X$11=TRUE,IF(ISNUMBER(Class2[[#This Row],[Input1]:[Input20]]),$E$9:$X$9,""))),0))))))} | D14: =IF(C14="","",INDEX('2 Settings'!$K$12:$K$25,MATCH(Class2[[#This Row],[Grade%]],'2 Settings'!$J$12:$J$25,TRUE)))
C15: {=IF($B15="","", IF($D$1=0,"", IF(AND(COUNTIFS(Class2[[#This Row],[Input1]:[Input20]],0,$E$11:$X$11,TRUE)>0,SUM(Class2[[#This Row],[Input1]:[Input20]])=0 ),0, IF(COUNT(Class2[[#This Row],[Input1]:[Input20]])=0,"", IF( SUM(Class2[[#This Row],[Input1]:[Input20]]*$E$11:$X$11) =0,"", IFERROR(SUM(IF($E$11:$X$11=TRUE,IF(Class2[[#This Row],[Input1]:[Input20]]<>"",Class2[[#This Row],[Input1]:[Input20]]/$E$7:$X$7*$E$9:$X$9,"")))/SUM(IF($E$11:$X$11=TRUE,IF(ISNUMBER(Class2[[#This Row],[Input1]:[Input20]]),$E$9:$X$9,""))),0))))))} | D15: =IF(C15="","",INDEX('2 Settings'!$K$12:$K$25,MATCH(Class2[[#This Row],[Grade%]],'2 Settings'!$J$12:$J$25,TRUE)))
C16: {=IF($B16="","", IF($D$1=0,"", IF(AND(COUNTIFS(Class2[[#This Row],[Input1]:[Input20]],0,$E$11:$X$11,TRUE)>0,SUM(Class2[[#This Row],[Input1]:[Input20]])=0 ),0, IF(COUNT(Class2[[#This Row],[Input1]:[Input20]])=0,"", IF( SUM(Class2[[#This Row],[Input1]:[Input20]]*$E$11:$X$11) =0,"", IFERROR(SUM(IF($E$11:$X$11=TRUE,IF(Class2[[#This Row],[Input1]:[Input20]]<>"",Class2[[#This Row],[Input1]:[Input20]]/$E$7:$X$7*$E$9:$X$9,"")))/SUM(IF($E$11:$X$11=TRUE,IF(ISNUMBER(Class2[[#This Row],[Input1]:[Input20]]),$E$9:$X$9,""))),0))))))} | D16: =IF(C16="","",INDEX('2 Settings'!$K$12:$K$25,MATCH(Class2[[#This Row],[Grade%]],'2 Settings'!$J$12:$J$25,TRUE)))
C17: {=IF($B17="","", IF($D$1=0,"", IF(AND(COUNTIFS(Class2[[#This Row],[Input1]:[Input20]],0,$E$11:$X$11,TRUE)>0,SUM(Class2[[#This Row],[Input1]:[Input20]])=0 ),0, IF(COUNT(Class2[[#This Row],[Input1]:[Input20]])=0,"", IF( SUM(Class2[[#This Row],[Input1]:[Input20]]*$E$11:$X$11) =0,"", IFERROR(SUM(IF($E$11:$X$11=TRUE,IF(Class2[[#This Row],[Input1]:[Input20]]<>"",Class2[[#This Row],[Input1]:[Input20]]/$E$7:$X$7*$E$9:$X$9,"")))/SUM(IF($E$11:$X$11=TRUE,IF(ISNUMBER(Class2[[#This Row],[Input1]:[Input20]]),$E$9:$X$9,""))),0))))))} | D17: =IF(C17="","",INDEX('2 Settings'!$K$12:$K$25,MATCH(Class2[[#This Row],[Grade%]],'2 Settings'!$J$12:$J$25,TRUE)))
C18: {=IF($B18="","", IF($D$1=0,"", IF(AND(COUNTIFS(Class2[[#This Row],[Input1]:[Input20]],0,$E$11:$X$11,TRUE)>0,SUM(Class2[[#This Row],[Input1]:[Input20]])=0 ),0, IF(COUNT(Class2[[#This Row],[Input1]:[Input20]])=0,"", IF( SUM(Class2[[#This Row],[Input1]:[Input20]]*$E$11:$X$11) =0,"", IFERROR(SUM(IF($E$11:$X$11=TRUE,IF(Class2[[#This Row],[Input1]:[Input20]]<>"",Class2[[#This Row],[Input1]:[Input20]]/$E$7:$X$7*$E$9:$X$9,"")))/SUM(IF($E$11:$X$11=TRUE,IF(ISNUMBER(Class2[[#This Row],[Input1]:[Input20]]),$E$9:$X$9,""))),0))))))} | D18: =IF(C18="","",INDEX('2 Settings'!$K$12:$K$25,MATCH(Class2[[#This Row],[Grade%]],'2 Settings'!$J$12:$J$25,TRUE)))
C19: {=IF($B19="","", IF($D$1=0,"", IF(AND(COUNTIFS(Class2[[#This Row],[Input1]:[Input20]],0,$E$11:$X$11,TRUE)>0,SUM(Class2[[#This Row],[Input1]:[Input20]])=0 ),0, IF(COUNT(Class2[[#This Row],[Input1]:[Input20]])=0,"", IF( SUM(Class2[[#This Row],[Input1]:[Input20]]*$E$11:$X$11) =0,"", IFERROR(SUM(IF($E$11:$X$11=TRUE,IF(Class2[[#This Row],[Input1]:[Input20]]<>"",Class2[[#This Row],[Input1]:[Input20]]/$E$7:$X$7*$E$9:$X$9,"")))/SUM(IF($E$11:$X$11=TRUE,IF(ISNUMBER(Class2[[#This Row],[Input1]:[Input20]]),$E$9:$X$9,""))),0))))))} | D19: =IF(C19="","",INDEX('2 Settings'!$K$12:$K$25,MATCH(Class2[[#This Row],[Grade%]],'2 Settings'!$J$12:$J$25,TRUE)))
C20: {=IF($B20="","", IF($D$1=0,"", IF(AND(COUNTIFS(Class2[[#This Row],[Input1]:[Input20]],0,$E$11:$X$11,TRUE)>0,SUM(Class2[[#This Row],[Input1]:[Input20]])=0 ),0, IF(COUNT(Class2[[#This Row],[Input1]:[Input20]])=0,"", IF( SUM(Class2[[#This Row],[Input1]:[Input20]]*$E$11:$X$11) =0,"", IFERROR(SUM(IF($E$11:$X$11=TRUE,IF(Class2[[#This Row],[Input1]:[Input20]]<>"",Class2[[#This Row],[Input1]:[Input20]]/$E$7:$X$7*$E$9:$X$9,"")))/SUM(IF($E$11:$X$11=TRUE,IF(ISNUMBER(Class2[[#This Row],[Input1]:[Input20]]),$E$9:$X$9,""))),0))))))} | D20: =IF(C20="","",INDEX('2 Settings'!$K$12:$K$25,MATCH(Class2[[#This Row],[Grade%]],'2 Settings'!$J$12:$J$25,TRUE)))
C21: {=IF($B21="","", IF($D$1=0,"", IF(AND(COUNTIFS(Class2[[#This Row],[Input1]:[Input20]],0,$E$11:$X$11,TRUE)>0,SUM(Class2[[#This Row],[Input1]:[Input20]])=0 ),0, IF(COUNT(Class2[[#This Row],[Input1]:[Input20]])=0,"", IF( SUM(Class2[[#This Row],[Input1]:[Input20]]*$E$11:$X$11) =0,"", IFERROR(SUM(IF($E$11:$X$11=TRUE,IF(Class2[[#This Row],[Input1]:[Input20]]<>"",Class2[[#This Row],[Input1]:[Input20]]/$E$7:$X$7*$E$9:$X$9,"")))/SUM(IF($E$11:$X$11=TRUE,IF(ISNUMBER(Class2[[#This Row],[Input1]:[Input20]]),$E$9:$X$9,""))),0))))))} | D21: =IF(C21="","",INDEX('2 Settings'!$K$12:$K$25,MATCH(Class2[[#This Row],[Grade%]],'2 Settings'!$J$12:$J$25,TRUE)))
C22: {=IF($B22="","", IF($D$1=0,"", IF(AND(COUNTIFS(Class2[[#This Row],[Input1]:[Input20]],0,$E$11:$X$11,TRUE)>0,SUM(Class2[[#This Row],[Input1]:[Input20]])=0 ),0, IF(COUNT(Class2[[#This Row],[Input1]:[Input20]])=0,"", IF( SUM(Class2[[#This Row],[Input1]:[Input20]]*$E$11:$X$11) =0,"", IFERROR(SUM(IF($E$11:$X$11=TRUE,IF(Class2[[#This Row],[Input1]:[Input20]]<>"",Class2[[#This Row],[Input1]:[Input20]]/$E$7:$X$7*$E$9:$X$9,"")))/SUM(IF($E$11:$X$11=TRUE,IF(ISNUMBER(Class2[[#This Row],[Input1]:[Input20]]),$E$9:$X$9,""))),0))))))} | D22: =IF(C22="","",INDEX('2 Settings'!$K$12:$K$25,MATCH(Class2[[#This Row],[Grade%]],'2 Settings'!$J$12:$J$25,TRUE)))
C23: {=IF($B23="","", IF($D$1=0,"", IF(AND(COUNTIFS(Class2[[#This Row],[Input1]:[Input20]],0,$E$11:$X$11,TRUE)>0,SUM(Class2[[#This Row],[Input1]:[Input20]])=0 ),0, IF(COUNT(Class2[[#This Row],[Input1]:[Input20]])=0,"", IF( SUM(Class2[[#This Row],[Input1]:[Input20]]*$E$11:$X$11) =0,"", IFERROR(SUM(IF($E$11:$X$11=TRUE,IF(Class2[[#This Row],[Input1]:[Input20]]<>"",Class2[[#This Row],[Input1]:[Input20]]/$E$7:$X$7*$E$9:$X$9,"")))/SUM(IF($E$11:$X$11=TRUE,IF(ISNUMBER(Class2[[#This Row],[Input1]:[Input20]]),$E$9:$X$9,""))),0))))))} | D23: =IF(C23="","",INDEX('2 Settings'!$K$12:$K$25,MATCH(Class2[[#This Row],[Grade%]],'2 Settings'!$J$12:$J$25,TRUE)))
C24: {=IF($B24="","", IF($D$1=0,"", IF(AND(COUNTIFS(Class2[[#This Row],[Input1]:[Input20]],0,$E$11:$X$11,TRUE)>0,SUM(Class2[[#This Row],[Input1]:[Input20]])=0 ),0, IF(COUNT(Class2[[#This Row],[Input1]:[Input20]])=0,"", IF( SUM(Class2[[#This Row],[Input1]:[Input20]]*$E$11:$X$11) =0,"", IFERROR(SUM(IF($E$11:$X$11=TRUE,IF(Class2[[#This Row],[Input1]:[Input20]]<>"",Class2[[#This Row],[Input1]:[Input20]]/$E$7:$X$7*$E$9:$X$9,"")))/SUM(IF($E$11:$X$11=TRUE,IF(ISNUMBER(Class2[[#This Row],[Input1]:[Input20]]),$E$9:$X$9,""))),0))))))} | D24: =IF(C24="","",INDEX('2 Settings'!$K$12:$K$25,MATCH(Class2[[#This Row],[Grade%]],'2 Settings'!$J$12:$J$25,TRUE)))
C25: {=IF($B25="","", IF($D$1=0,"", IF(AND(COUNTIFS(Class2[[#This Row],[Input1]:[Input20]],0,$E$11:$X$11,TRUE)>0,SUM(Class2[[#This Row],[Input1]:[Input20]])=0 ),0, IF(COUNT(Class2[[#This Row],[Input1]:[Input20]])=0,"", IF( SUM(Class2[[#This Row],[Input1]:[Input20]]*$E$11:$X$11) =0,"", IFERROR(SUM(IF($E$11:$X$11=TRUE,IF(Class2[[#This Row],[Input1]:[Input20]]<>"",Class2[[#This Row],[Input1]:[Input20]]/$E$7:$X$7*$E$9:$X$9,"")))/SUM(IF($E$11:$X$11=TRUE,IF(ISNUMBER(Class2[[#This Row],[Input1]:[Input20]]),$E$9:$X$9,""))),0))))))} | D25: =IF(C25="","",INDEX('2 Settings'!$K$12:$K$25,MATCH(Class2[[#This Row],[Grade%]],'2 Settings'!$J$12:$J$25,TRUE)))
... C100: {=IF($B100="","", IF($D$1=0,"", IF(AND(COUNTIFS(Class2[[#This Row],[Input1]:[Input20]],0,$E$11:$X$11,TRUE)>0,SUM(Class2[[#This Row],[Input1]:[Input20]])=0 ),0, IF(COUNT(Class2[[#This Row],[Input1]:[Input20]])=0,"", IF( SUM(Class2[[#This Row],[Input1]:[Input20]]*$E$11:$X$11) =0,"", IFERROR(SUM(IF($E$11:$X$11=TRUE,IF(Class2[[#This Row],[Input1]:[Input20]]<>"",Class2[[#This Row],[Input1]:[Input20]]/$E$7:$X$7*$E$9:$X$9,"")))/SUM(IF($E$11:$X$11=TRUE,IF(ISNUMBER(Class2[[#This Row],[Input1]:[Input20]]),$E$9:$X$9,""))),0))))))} | D100: =IF(C100="","",INDEX('2 Settings'!$K$12:$K$25,MATCH(Class2[[#This Row],[Grade%]],'2 Settings'!$J$12:$J$25,TRUE)))

Sheet Class#2
B1: Geography | D1: =COUNTIF($E$11:$X$11,TRUE) -> 1 | E1: =IF(AND(E$11=TRUE,E$7<>"",E$8<>"",E$9<>""),"",IF(AND(E$11=TRUE,E$7=""),"Pls enter 'Perfect Score'",IF(AND(E$11=TRUE,E$8=""),"Pls enter 'Pass Score'",IF(AND(E$11=TRUE,E$9=""),"Pls enter 'Weight'","")))) -> Pls enter 'Perfect Score' | F1: =IF(AND(F$11=TRUE,F$7<>"",F$8<>"",F$9<>""),"",IF(AND(F$11=TRUE,F$7=""),"Pls enter 'Perfect Score'",IF(AND(F$11=TRUE,F$8=""),"Pls enter 'Pass Score'",IF(AND(F$11=TRUE,F$9=""),"Pls enter 'Weight'","")))) | G1: =IF(AND(G$11=TRUE,G$7<>"",G$8<>"",G$9<>""),"",IF(AND(G$11=TRUE,G$7=""),"Pls enter 'Perfect Score'",IF(AND(G$11=TRUE,G$8=""),"Pls enter 'Pass Score'",IF(AND(G$11=TRUE,G$9=""),"Pls enter 'Weight'","")))) | H1: =IF(AND(H$11=TRUE,H$7<>"",H$8<>"",H$9<>""),"",IF(AND(H$11=TRUE,H$7=""),"Pls enter 'Perfect Score'",IF(AND(H$11=TRUE,H$8=""),"Pls enter 'Pass Score'",IF(AND(H$11=TRUE,H$9=""),"Pls enter 'Weight'","")))) | I1: =IF(AND(I$11=TRUE,I$7<>"",I$8<>"",I$9<>""),"",IF(AND(I$11=TRUE,I$7=""),"Pls enter 'Perfect Score'",IF(AND(I$11=TRUE,I$8=""),"Pls enter 'Pass Score'",IF(AND(I$11=TRUE,I$9=""),"Pls enter 'Weight'","")))) | J1: =IF(AND(J$11=TRUE,J$7<>"",J$8<>"",J$9<>""),"",IF(AND(J$11=TRUE,J$7=""),"Pls enter 'Perfect Score'",IF(AND(J$11=TRUE,J$8=""),"Pls enter 'Pass Score'",IF(AND(J$11=TRUE,J$9=""),"Pls enter 'Weight'","")))) | K1: =IF(AND(K$11=TRUE,K$7<>"",K$8<>"",K$9<>""),"",IF(AND(K$11=TRUE,K$7=""),"Pls enter 'Perfect Score'",IF(AND(K$11=TRUE,K$8=""),"Pls enter 'Pass Score'",IF(AND(K$11=TRUE,K$9=""),"Pls enter 'Weight'","")))) | L1: =IF(AND(L$11=TRUE,L$7<>"",L$8<>"",L$9<>""),"",IF(AND(L$11=TRUE,L$7=""),"Pls enter 'Perfect Score'",IF(AND(L$11=TRUE,L$8=""),"Pls enter 'Pass Score'",IF(AND(L$11=TRUE,L$9=""),"Pls enter 'Weight'","")))) | ... X1: =IF(AND(X$11=TRUE,X$7<>"",X$8<>"",X$9<>""),"",IF(AND(X$11=TRUE,X$7=""),"Pls enter 'Perfect Score'",IF(AND(X$11=TRUE,X$8=""),"Pls enter 'Pass Score'",IF(AND(X$11=TRUE,X$9=""),"Pls enter 'Weight'",""))))
D2: FALSE
D3: Average | E3: =IF(SUM(Class23[Input1])=0,"",AVERAGE(Class23[Input1])) | F3: =IF(SUM(Class23[Input2])=0,"",AVERAGE(Class23[Input2])) | G3: =IF(SUM(Class23[Input3])=0,"",AVERAGE(Class23[Input3])) | H3: =IF(SUM(Class23[Input4])=0,"",AVERAGE(Class23[Input4])) | I3: =IF(SUM(Class23[Input5])=0,"",AVERAGE(Class23[Input5])) | J3: =IF(SUM(Class23[Input6])=0,"",AVERAGE(Class23[Input6])) | K3: =IF(SUM(Class23[Input7])=0,"",AVERAGE(Class23[Input7])) | L3: =IF(SUM(Class23[Input8])=0,"",AVERAGE(Class23[Input8])) | M3: =IF(SUM(Class23[Input9])=0,"",AVERAGE(Class23[Input9])) | N3: =IF(SUM(Class23[Input10])=0,"",AVERAGE(Class23[Input10])) | O3: =IF(SUM(Class23[Input11])=0,"",AVERAGE(Class23[Input11])) | P3: =IF(SUM(Class23[Input12])=0,"",AVERAGE(Class23[Input12])) | Q3: =IF(SUM(Class23[Input13])=0,"",AVERAGE(Class23[Input13])) | R3: =IF(SUM(Class23[Input14])=0,"",AVERAGE(Class23[Input14])) | S3: =IF(SUM(Class23[Input15])=0,"",AVERAGE(Class23[Input15])) | T3: =IF(SUM(Class23[Input16])=0,"",AVERAGE(Class23[Input16])) | U3: =IF(SUM(Class23[Input17])=0,"",AVERAGE(Class23[Input17])) | V3: =IF(SUM(Class23[Input18])=0,"",AVERAGE(Class23[Input18])) | W3: =IF(SUM(Class23[Input19])=0,"",AVERAGE(Class23[Input19])) | X3: =IF(SUM(Class23[Input20])=0,"",AVERAGE(Class23[Input20]))
D5: Pass | E5: =IF(E11=FALSE,"",COUNTIF(Class23[Input1],">="&E8)&" out of "&COUNT(Class23[Input1])) -> 0 out of 0 | F5: =IF(F11=FALSE,"",COUNTIF(Class23[Input2],">="&F8)&" out of "&COUNT(Class23[Input2])) | G5: =IF(G11=FALSE,"",COUNTIF(Class23[Input3],">="&G8)&" out of "&COUNT(Class23[Input3])) | H5: =IF(H11=FALSE,"",COUNTIF(Class23[Input4],">="&H8)&" out of "&COUNT(Class23[Input4])) | I5: =IF(I11=FALSE,"",COUNTIF(Class23[Input5],">="&I8)&" out of "&COUNT(Class23[Input5])) | J5: =IF(J11=FALSE,"",COUNTIF(Class23[Input6],">="&J8)&" out of "&COUNT(Class23[Input6])) | K5: =IF(K11=FALSE,"",COUNTIF(Class23[Input7],">="&K8)&" out of "&COUNT(Class23[Input7])) | L5: =IF(L11=FALSE,"",COUNTIF(Class23[Input8],">="&L8)&" out of "&COUNT(Class23[Input8])) | M5: =IF(M11=FALSE,"",COUNTIF(Class23[Input9],">="&M8)&" out of "&COUNT(Class23[Input9])) | N5: =IF(N11=FALSE,"",COUNTIF(Class23[Input10],">="&N8)&" out of "&COUNT(Class23[Input10])) | O5: =IF(O11=FALSE,"",COUNTIF(Class23[Input11],">="&O8)&" out of "&COUNT(Class23[Input11])) | P5: =IF(P11=FALSE,"",COUNTIF(Class23[Input12],">="&P8)&" out of "&COUNT(Class23[Input12])) | Q5: =IF(Q11=FALSE,"",COUNTIF(Class23[Input13],">="&Q8)&" out of "&COUNT(Class23[Input13])) | R5: =IF(R11=FALSE,"",COUNTIF(Class23[Input14],">="&R8)&" out of "&COUNT(Class23[Input14])) | S5: =IF(S11=FALSE,"",COUNTIF(Class23[Input15],">="&S8)&" out of "&COUNT(Class23[Input15])) | T5: =IF(T11=FALSE,"",COUNTIF(Class23[Input16],">="&T8)&" out of "&COUNT(Class23[Input16])) | U5: =IF(U11=FALSE,"",COUNTIF(Class23[Input17],">="&U8)&" out of "&COUNT(Class23[Input17])) | V5: =IF(V11=FALSE,"",COUNTIF(Class23[Input18],">="&V8)&" out of "&COUNT(Class23[Input18])) | W5: =IF(W11=FALSE,"",COUNTIF(Class23[Input19],">="&W8)&" out of "&COUNT(Class23[Input19])) | X5: =IF(X11=FALSE,"",COUNTIF(Class23[Input20],">="&X8)&" out of "&COUNT(Class23[Input20]))
D7: Perfect Score
D8: Pass Score
D9: Weight
D10: Date
D11: Include? | E11: TRUE | F11: FALSE | G11: FALSE | H11: FALSE | I11: FALSE | J11: FALSE | K11: FALSE | L11: FALSE | M11: FALSE | N11: FALSE | O11: FALSE | P11: FALSE | Q11: FALSE | R11: FALSE | S11: FALSE | T11: FALSE | U11: FALSE | V11: FALSE | W11: FALSE | X11: FALSE
C12: =IF('2 Settings'!F19="No","",IF('2 Settings'!F19="Yes",IFERROR(AVERAGE(Class23[Grade%]),""),"")) | D12: =IF(C12="","",INDEX('2 Settings'!$K$12:$K$25,MATCH(C12,'2 Settings'!$J$12:$J$25,TRUE)))
B13: Student_Name | C13: Grade% | D13: Letter | E13: Input1 | F13: Input2 | G13: Input3 | H13: Input4 | I13: Input5 | J13: Input6 | K13: Input7 | L13: Input8 | M13: Input9 | N13: Input10 | O13: Input11 | P13: Input12 | Q13: Input13 | R13: Input14 | S13: Input15 | T13: Input16 | U13: Input17 | V13: Input18 | W13: Input19 | X13: Input20
C14: {=IF($B14="","", IF($D$1=0,"", IF(AND(COUNTIFS(Class23[[#This Row],[Input1]:[Input20]],0,$E$11:$X$11,TRUE)>0,SUM(Class23[[#This Row],[Input1]:[Input20]])=0 ),0, IF(COUNT(Class23[[#This Row],[Input1]:[Input20]])=0,"", IF( SUM(Class23[[#This Row],[Input1]:[Input20]]*$E$11:$X$11) =0,"", IFERROR(SUM(IF($E$11:$X$11=TRUE,IF(Class23[[#This Row],[Input1]:[Input20]]<>"",Class23[[#This Row],[Input1]:[Input20]]/$E$7:$X$7*$E$9:$X$9,"")))/SUM(IF($E$11:$X$11=TRUE,IF(ISNUMBER(Class23[[#This Row],[Input1]:[Input20]]),$E$9:$X$9,""))),0))))))} | D14: =IF(C14="","",INDEX('2 Settings'!$K$12:$K$25,MATCH(Class23[[#This Row],[Grade%]],'2 Settings'!$J$12:$J$25,TRUE)))
C15: {=IF($B15="","", IF($D$1=0,"", IF(AND(COUNTIFS(Class23[[#This Row],[Input1]:[Input20]],0,$E$11:$X$11,TRUE)>0,SUM(Class23[[#This Row],[Input1]:[Input20]])=0 ),0, IF(COUNT(Class23[[#This Row],[Input1]:[Input20]])=0,"", IF( SUM(Class23[[#This Row],[Input1]:[Input20]]*$E$11:$X$11) =0,"", IFERROR(SUM(IF($E$11:$X$11=TRUE,IF(Class23[[#This Row],[Input1]:[Input20]]<>"",Class23[[#This Row],[Input1]:[Input20]]/$E$7:$X$7*$E$9:$X$9,"")))/SUM(IF($E$11:$X$11=TRUE,IF(ISNUMBER(Class23[[#This Row],[Input1]:[Input20]]),$E$9:$X$9,""))),0))))))} | D15: =IF(C15="","",INDEX('2 Settings'!$K$12:$K$25,MATCH(Class23[[#This Row],[Grade%]],'2 Settings'!$J$12:$J$25,TRUE)))
C16: {=IF($B16="","", IF($D$1=0,"", IF(AND(COUNTIFS(Class23[[#This Row],[Input1]:[Input20]],0,$E$11:$X$11,TRUE)>0,SUM(Class23[[#This Row],[Input1]:[Input20]])=0 ),0, IF(COUNT(Class23[[#This Row],[Input1]:[Input20]])=0,"", IF( SUM(Class23[[#This Row],[Input1]:[Input20]]*$E$11:$X$11) =0,"", IFERROR(SUM(IF($E$11:$X$11=TRUE,IF(Class23[[#This Row],[Input1]:[Input20]]<>"",Class23[[#This Row],[Input1]:[Input20]]/$E$7:$X$7*$E$9:$X$9,"")))/SUM(IF($E$11:$X$11=TRUE,IF(ISNUMBER(Class23[[#This Row],[Input1]:[Input20]]),$E$9:$X$9,""))),0))))))} | D16: =IF(C16="","",INDEX('2 Settings'!$K$12:$K$25,MATCH(Class23[[#This Row],[Grade%]],'2 Settings'!$J$12:$J$25,TRUE)))
C17: {=IF($B17="","", IF($D$1=0,"", IF(AND(COUNTIFS(Class23[[#This Row],[Input1]:[Input20]],0,$E$11:$X$11,TRUE)>0,SUM(Class23[[#This Row],[Input1]:[Input20]])=0 ),0, IF(COUNT(Class23[[#This Row],[Input1]:[Input20]])=0,"", IF( SUM(Class23[[#This Row],[Input1]:[Input20]]*$E$11:$X$11) =0,"", IFERROR(SUM(IF($E$11:$X$11=TRUE,IF(Class23[[#This Row],[Input1]:[Input20]]<>"",Class23[[#This Row],[Input1]:[Input20]]/$E$7:$X$7*$E$9:$X$9,"")))/SUM(IF($E$11:$X$11=TRUE,IF(ISNUMBER(Class23[[#This Row],[Input1]:[Input20]]),$E$9:$X$9,""))),0))))))} | D17: =IF(C17="","",INDEX('2 Settings'!$K$12:$K$25,MATCH(Class23[[#This Row],[Grade%]],'2 Settings'!$J$12:$J$25,TRUE)))
C18: {=IF($B18="","", IF($D$1=0,"", IF(AND(COUNTIFS(Class23[[#This Row],[Input1]:[Input20]],0,$E$11:$X$11,TRUE)>0,SUM(Class23[[#This Row],[Input1]:[Input20]])=0 ),0, IF(COUNT(Class23[[#This Row],[Input1]:[Input20]])=0,"", IF( SUM(Class23[[#This Row],[Input1]:[Input20]]*$E$11:$X$11) =0,"", IFERROR(SUM(IF($E$11:$X$11=TRUE,IF(Class23[[#This Row],[Input1]:[Input20]]<>"",Class23[[#This Row],[Input1]:[Input20]]/$E$7:$X$7*$E$9:$X$9,"")))/SUM(IF($E$11:$X$11=TRUE,IF(ISNUMBER(Class23[[#This Row],[Input1]:[Input20]]),$E$9:$X$9,""))),0))))))} | D18: =IF(C18="","",INDEX('2 Settings'!$K$12:$K$25,MATCH(Class23[[#This Row],[Grade%]],'2 Settings'!$J$12:$J$25,TRUE)))
C19: {=IF($B19="","", IF($D$1=0,"", IF(AND(COUNTIFS(Class23[[#This Row],[Input1]:[Input20]],0,$E$11:$X$11,TRUE)>0,SUM(Class23[[#This Row],[Input1]:[Input20]])=0 ),0, IF(COUNT(Class23[[#This Row],[Input1]:[Input20]])=0,"", IF( SUM(Class23[[#This Row],[Input1]:[Input20]]*$E$11:$X$11) =0,"", IFERROR(SUM(IF($E$11:$X$11=TRUE,IF(Class23[[#This Row],[Input1]:[Input20]]<>"",Class23[[#This Row],[Input1]:[Input20]]/$E$7:$X$7*$E$9:$X$9,"")))/SUM(IF($E$11:$X$11=TRUE,IF(ISNUMBER(Class23[[#This Row],[Input1]:[Input20]]),$E$9:$X$9,""))),0))))))} | D19: =IF(C19="","",INDEX('2 Settings'!$K$12:$K$25,MATCH(Class23[[#This Row],[Grade%]],'2 Settings'!$J$12:$J$25,TRUE)))
C20: {=IF($B20="","", IF($D$1=0,"", IF(AND(COUNTIFS(Class23[[#This Row],[Input1]:[Input20]],0,$E$11:$X$11,TRUE)>0,SUM(Class23[[#This Row],[Input1]:[Input20]])=0 ),0, IF(COUNT(Class23[[#This Row],[Input1]:[Input20]])=0,"", IF( SUM(Class23[[#This Row],[Input1]:[Input20]]*$E$11:$X$11) =0,"", IFERROR(SUM(IF($E$11:$X$11=TRUE,IF(Class23[[#This Row],[Input1]:[Input20]]<>"",Class23[[#This Row],[Input1]:[Input20]]/$E$7:$X$7*$E$9:$X$9,"")))/SUM(IF($E$11:$X$11=TRUE,IF(ISNUMBER(Class23[[#This Row],[Input1]:[Input20]]),$E$9:$X$9,""))),0))))))} | D20: =IF(C20="","",INDEX('2 Settings'!$K$12:$K$25,MATCH(Class23[[#This Row],[Grade%]],'2 Settings'!$J$12:$J$25,TRUE)))
C21: {=IF($B21="","", IF($D$1=0,"", IF(AND(COUNTIFS(Class23[[#This Row],[Input1]:[Input20]],0,$E$11:$X$11,TRUE)>0,SUM(Class23[[#This Row],[Input1]:[Input20]])=0 ),0, IF(COUNT(Class23[[#This Row],[Input1]:[Input20]])=0,"", IF( SUM(Class23[[#This Row],[Input1]:[Input20]]*$E$11:$X$11) =0,"", IFERROR(SUM(IF($E$11:$X$11=TRUE,IF(Class23[[#This Row],[Input1]:[Input20]]<>"",Class23[[#This Row],[Input1]:[Input20]]/$E$7:$X$7*$E$9:$X$9,"")))/SUM(IF($E$11:$X$11=TRUE,IF(ISNUMBER(Class23[[#This Row],[Input1]:[Input20]]),$E$9:$X$9,""))),0))))))} | D21: =IF(C21="","",INDEX('2 Settings'!$K$12:$K$25,MATCH(Class23[[#This Row],[Grade%]],'2 Settings'!$J$12:$J$25,TRUE)))
C22: {=IF($B22="","", IF($D$1=0,"", IF(AND(COUNTIFS(Class23[[#This Row],[Input1]:[Input20]],0,$E$11:$X$11,TRUE)>0,SUM(Class23[[#This Row],[Input1]:[Input20]])=0 ),0, IF(COUNT(Class23[[#This Row],[Input1]:[Input20]])=0,"", IF( SUM(Class23[[#This Row],[Input1]:[Input20]]*$E$11:$X$11) =0,"", IFERROR(SUM(IF($E$11:$X$11=TRUE,IF(Class23[[#This Row],[Input1]:[Input20]]<>"",Class23[[#This Row],[Input1]:[Input20]]/$E$7:$X$7*$E$9:$X$9,"")))/SUM(IF($E$11:$X$11=TRUE,IF(ISNUMBER(Class23[[#This Row],[Input1]:[Input20]]),$E$9:$X$9,""))),0))))))} | D22: =IF(C22="","",INDEX('2 Settings'!$K$12:$K$25,MATCH(Class23[[#This Row],[Grade%]],'2 Settings'!$J$12:$J$25,TRUE)))
C23: {=IF($B23="","", IF($D$1=0,"", IF(AND(COUNTIFS(Class23[[#This Row],[Input1]:[Input20]],0,$E$11:$X$11,TRUE)>0,SUM(Class23[[#This Row],[Input1]:[Input20]])=0 ),0, IF(COUNT(Class23[[#This Row],[Input1]:[Input20]])=0,"", IF( SUM(Class23[[#This Row],[Input1]:[Input20]]*$E$11:$X$11) =0,"", IFERROR(SUM(IF($E$11:$X$11=TRUE,IF(Class23[[#This Row],[Input1]:[Input20]]<>"",Class23[[#This Row],[Input1]:[Input20]]/$E$7:$X$7*$E$9:$X$9,"")))/SUM(IF($E$11:$X$11=TRUE,IF(ISNUMBER(Class23[[#This Row],[Input1]:[Input20]]),$E$9:$X$9,""))),0))))))} | D23: =IF(C23="","",INDEX('2 Settings'!$K$12:$K$25,MATCH(Class23[[#This Row],[Grade%]],'2 Settings'!$J$12:$J$25,TRUE)))
C24: {=IF($B24="","", IF($D$1=0,"", IF(AND(COUNTIFS(Class23[[#This Row],[Input1]:[Input20]],0,$E$11:$X$11,TRUE)>0,SUM(Class23[[#This Row],[Input1]:[Input20]])=0 ),0, IF(COUNT(Class23[[#This Row],[Input1]:[Input20]])=0,"", IF( SUM(Class23[[#This Row],[Input1]:[Input20]]*$E$11:$X$11) =0,"", IFERROR(SUM(IF($E$11:$X$11=TRUE,IF(Class23[[#This Row],[Input1]:[Input20]]<>"",Class23[[#This Row],[Input1]:[Input20]]/$E$7:$X$7*$E$9:$X$9,"")))/SUM(IF($E$11:$X$11=TRUE,IF(ISNUMBER(Class23[[#This Row],[Input1]:[Input20]]),$E$9:$X$9,""))),0))))))} | D24: =IF(C24="","",INDEX('2 Settings'!$K$12:$K$25,MATCH(Class23[[#This Row],[Grade%]],'2 Settings'!$J$12:$J$25,TRUE)))
C25: {=IF($B25="","", IF($D$1=0,"", IF(AND(COUNTIFS(Class23[[#This Row],[Input1]:[Input20]],0,$E$11:$X$11,TRUE)>0,SUM(Class23[[#This Row],[Input1]:[Input20]])=0 ),0, IF(COUNT(Class23[[#This Row],[Input1]:[Input20]])=0,"", IF( SUM(Class23[[#This Row],[Input1]:[Input20]]*$E$11:$X$11) =0,"", IFERROR(SUM(IF($E$11:$X$11=TRUE,IF(Class23[[#This Row],[Input1]:[Input20]]<>"",Class23[[#This Row],[Input1]:[Input20]]/$E$7:$X$7*$E$9:$X$9,"")))/SUM(IF($E$11:$X$11=TRUE,IF(ISNUMBER(Class23[[#This Row],[Input1]:[Input20]]),$E$9:$X$9,""))),0))))))} | D25: =IF(C25="","",INDEX('2 Settings'!$K$12:$K$25,MATCH(Class23[[#This Row],[Grade%]],'2 Settings'!$J$12:$J$25,TRUE)))
... C100: {=IF($B100="","", IF($D$1=0,"", IF(AND(COUNTIFS(Class23[[#This Row],[Input1]:[Input20]],0,$E$11:$X$11,TRUE)>0,SUM(Class23[[#This Row],[Input1]:[Input20]])=0 ),0, IF(COUNT(Class23[[#This Row],[Input1]:[Input20]])=0,"", IF( SUM(Class23[[#This Row],[Input1]:[Input20]]*$E$11:$X$11) =0,"", IFERROR(SUM(IF($E$11:$X$11=TRUE,IF(Class23[[#This Row],[Input1]:[Input20]]<>"",Class23[[#This Row],[Input1]:[Input20]]/$E$7:$X$7*$E$9:$X$9,"")))/SUM(IF($E$11:$X$11=TRUE,IF(ISNUMBER(Class23[[#This Row],[Input1]:[Input20]]),$E$9:$X$9,""))),0))))))} | D100: =IF(C100="","",INDEX('2 Settings'!$K$12:$K$25,MATCH(Class23[[#This Row],[Grade%]],'2 Settings'!$J$12:$J$25,TRUE)))

Sheet 4 Links & Feedback
F26: Watch the video: | G26: Click here to watch the video
F27: Excel file for this video: | G27: Click here to see my Excel files | J27: http://1drv.ms/1bYwrTa
