{"text_format":"3","workbook":"xlsx","n_sheets":4,"sheets":["Settings","Weekly Timesheet","Weekly Timecard HHMM","EULA"],"not_rendered":{"images":14,"defined_names":3},"read":"whole","date_system":"1900"}

{"sheet":"Settings","index":0,"n_rows":25,"n_cols":5,"rows_kept":25,"merged":[[4,1,4,2],[5,1,5,2],[7,1,7,2],[9,1,9,2],[10,1,10,2],[11,1,11,2],[12,1,12,2],[12,3,12,4],[13,1,13,2],[13,3,13,4],[14,1,14,2],[16,1,16,2],[17,1,17,2],[18,1,18,2],[19,1,19,2]]}
["Settings"]
[]
["Company Details"]
[]
["Company Name","My Company name",null,null,"Enable"]
["Company Slogan (Optional)","My company slogan",null,null,"Enable"]
[]
["Company Address"]
[]
["Building/House Number",111]
["Street","Street"]
["Town/City","Town/City"]
["County/Province","County",null,"(Optional)"]
["State/Province","ST",null,"(Optional)"]
["ZIP/Postal Code","00000"]
[]
["Tel.","0-000-000-0000"]
["Fax","0-000-000-0000"]
["E-mail","info@yourcompanysite.com"]
["Website","www.yourcompanysite.com"]
[]
[]
["Color Scheme"]
[]
["Design Picker","No Color"]

{"sheet":"Weekly Timesheet","index":1,"n_rows":52,"n_cols":17,"rows_kept":52,"merged":[[5,11,5,15],[6,11,6,15],[9,11,9,15],[10,11,10,15],[11,11,11,15],[12,11,12,15],[14,11,14,15],[15,11,15,15],[17,0,18,2],[17,3,18,5],[17,13,18,13],[17,14,18,14],[17,15,18,15],[19,0,19,2],[19,3,19,5],[20,0,20,2],[20,3,20,5],[21,0,21,2],[21,3,21,5],[22,0,22,2],[22,3,22,5],[23,0,23,2],[23,3,23,5],[24,0,24,2],[24,3,24,5],[25,0,25,2],[25,3,25,5],[26,0,26,2],[26,3,26,5],[27,0,27,2],[27,3,27,5],[28,0,28,2],[28,3,28,5],[29,0,29,2],[29,3,29,5],[30,0,30,2],[30,3,30,5],[31,0,31,2],[31,3,31,5],[32,0,32,2],[32,3,32,5],[33,0,33,2],[33,3,33,5],[34,0,34,2],[34,3,34,5],[35,0,35,2],[35,3,35,5],[36,0,36,2],[36,3,36,5],[37,0,37,2],[37,3,37,5],[38,0,38,2],[38,3,38,5],[39,0,39,2],[39,3,39,5],[40,0,40,5],[41,10,41,11]]}
[{"$f":"IF(Settings!$E$5=\"Enable\",Settings!$B$5,\"\")","v":"My Company name"},{"$nulls":14},"Weekly Timecard"]
[{"$f":"IF(Settings!$E$6=\"Enable\",Settings!$B$6,\"\")","v":"My company slogan"},{"$nulls":15},{"$f":"Settings!B25","v":"No Color"}]
[]
[]
[]
[{"$nulls":8},"Deprtment",null,null,"[Department]"]
[{"$nulls":8},"Employee's ID",null,null,"[ABC123456]"]
[]
[]
[{"$f":"Settings!B10&\" \"&Settings!B11","v":"111 Street"},{"$nulls":7},"Employee:",null,null,"[Name]"]
[{"$f":"Settings!B12&\", \"&Settings!B13&\", \"&Settings!B14&\", \"&Settings!B15","v":"Town/City, County, ST, 00000"},{"$nulls":7},"Employee's phone:",null,null,"[000-000-0000]"]
[{"$f":"Settings!B17","v":"0-000-000-0000"},{"$nulls":7},"Employee's e-mail:",null,null,"abc@domainname.com"]
[{"$f":"Settings!B18","v":"0-000-000-0000"},{"$nulls":7},"Manager:",null,null,"[Name]"]
[{"$f":"Settings!B19","v":"info@yourcompanysite.com"}]
[{"$f":"Settings!B20","v":"www.yourcompanysite.com"},{"$nulls":7},"Week Commencing:",null,null,"2013-06-23"]
[{"$nulls":8},"Week Ending:",null,null,{"$f":"IF(L15=0,\"\",L15+6)","v":"2013-06-29"}]
[]
["Project Name",null,null,"Task",null,null,{"$f":"G19","v":"2013-06-17"},"2013-06-18","2013-06-19","2013-06-20","2013-06-21","2013-06-22","2013-06-23","Regular Hours","Overtime Hours","Total Hours"]
[{"$nulls":6},{"$f":"IF($L$15=0,\"\",$L$15-6)","v":"2013-06-17"},{"$f":"IF($L$15=0,\"\",$L$15-5)","v":"2013-06-18"},{"$f":"IF($L$15=0,\"\",$L$15-4)","v":"2013-06-19"},{"$f":"IF($L$15=0,\"\",$L$15-3)","v":"2013-06-20"},{"$f":"IF($L$15=0,\"\",$L$15-2)","v":"2013-06-21"},{"$f":"IF($L$15=0,\"\",$L$15-1)","v":"2013-06-22"},{"$f":"IF($L$15=0,\"\",$L$15)","v":"2013-06-23"}]
[{"$nulls":13},{"$f":"SUM(G20:M20)","v":0},null,{"$f":"N20+O20","v":0}]
[{"$nulls":13},{"$f":"SUM(G21:M21)","v":0},null,{"$f":"N21+O21","v":0}]
[{"$nulls":13},0,null,0]
[{"$nulls":13},0,null,0]
[{"$nulls":13},0,null,0]
[{"$nulls":13},0,null,0]
[{"$nulls":13},0,null,0]
[{"$nulls":13},0,null,0]
[{"$nulls":13},0,null,0]
[{"$nulls":13},0,null,{"$f":"N29+O29","v":0}]
[{"$nulls":13},0,null,0]
[{"$nulls":13},0,null,0]
[{"$nulls":13},0,null,0]
[{"$nulls":13},0,null,0]
[{"$nulls":13},0,null,0]
[{"$nulls":13},0,null,0]
[{"$nulls":13},0,null,0]
[{"$nulls":13},0,null,0]
[{"$nulls":13},0,null,0]
[{"$nulls":13},0,null,0]
[{"$nulls":13},0,null,0]
["Total Hours",{"$nulls":5},{"$f":"SUM(G20:G40)","v":0},{"$f":"SUM(H20:H40)","v":0},0,0,0,0,0,{"$f":"SUM(G41:M41)","v":0},{"$f":"SUM(O20:O40)","v":0},0]
["Reported Hours",null,null,{"$f":"N41","v":{"v":0,"d":"0.00"}},{"$nulls":3},"Overtime",null,null,{"$f":"O41","v":{"v":0,"d":"0.00"}}]
{"$rows_empty":7}
[{"$nulls":7},"Employee's signature",{"$nulls":6},"Date"]
[]
[{"$nulls":7},"Manager's signature",{"$nulls":6},"Date"]

{"sheet":"Weekly Timecard HHMM","index":2,"n_rows":52,"n_cols":17,"rows_kept":52,"merged":[[5,11,5,15],[6,11,6,15],[9,11,9,15],[10,11,10,15],[11,11,11,15],[12,11,12,15],[14,11,14,15],[15,11,15,15],[17,0,18,2],[17,3,18,5],[17,13,18,13],[17,14,18,14],[17,15,18,15],[19,0,19,2],[19,3,19,5],[20,0,20,2],[20,3,20,5],[21,0,21,2],[21,3,21,5],[22,0,22,2],[22,3,22,5],[23,0,23,2],[23,3,23,5],[24,0,24,2],[24,3,24,5],[25,0,25,2],[25,3,25,5],[26,0,26,2],[26,3,26,5],[27,0,27,2],[27,3,27,5],[28,0,28,2],[28,3,28,5],[29,0,29,2],[29,3,29,5],[30,0,30,2],[30,3,30,5],[31,0,31,2],[31,3,31,5],[32,0,32,2],[32,3,32,5],[33,0,33,2],[33,3,33,5],[34,0,34,2],[34,3,34,5],[35,0,35,2],[35,3,35,5],[36,0,36,2],[36,3,36,5],[37,0,37,2],[37,3,37,5],[38,0,38,2],[38,3,38,5],[39,0,39,2],[39,3,39,5],[40,0,40,5],[41,3,41,4],[41,10,41,11]]}
[{"$f":"IF(Settings!$E$5=\"Enable\",Settings!$B$5,\"\")","v":"My Company name"},{"$nulls":14},"Weekly Timecard"]
[{"$f":"IF(Settings!$E$6=\"Enable\",Settings!$B$6,\"\")","v":"My company slogan"},{"$nulls":15},{"$f":"Settings!B25","v":"No Color"}]
[]
[]
[]
[{"$nulls":8},"Deprtment",null,null,"[Department]"]
[{"$nulls":8},"Employee's ID",null,null,"[ABC123456]"]
[]
[]
[{"$f":"Settings!B10&\" \"&Settings!B11","v":"111 Street"},{"$nulls":7},"Employee:",null,null,"[Name]"]
[{"$f":"Settings!B12&\", \"&Settings!B13&\", \"&Settings!B14&\", \"&Settings!B15","v":"Town/City, County, ST, 00000"},{"$nulls":7},"Employee's phone:",null,null,"[000-000-0000]"]
[{"$f":"Settings!B17","v":"0-000-000-0000"},{"$nulls":7},"Employee's e-mail:",null,null,"abc@domainname.com"]
[{"$f":"Settings!B18","v":"0-000-000-0000"},{"$nulls":7},"Manager:",null,null,"[Name]"]
[{"$f":"Settings!B19","v":"info@yourcompanysite.com"}]
[{"$f":"Settings!B20","v":"www.yourcompanysite.com"},{"$nulls":7},"Week Commencing:",null,null,"2013-06-23"]
[{"$nulls":8},"Week Ending:",null,null,{"$f":"IF(L15=0,\"\",L15+6)","v":"2013-06-29"}]
[]
["Project Name",null,null,"Task",null,null,{"$f":"G19","v":"2013-06-17"},"2013-06-18","2013-06-19","2013-06-20","2013-06-21","2013-06-22","2013-06-23","Regular Hours","Overtime Hours","Total Hours"]
[{"$nulls":6},{"$f":"IF($L$15=0,\"\",$L$15-6)","v":"2013-06-17"},{"$f":"IF($L$15=0,\"\",$L$15-5)","v":"2013-06-18"},{"$f":"IF($L$15=0,\"\",$L$15-4)","v":"2013-06-19"},{"$f":"IF($L$15=0,\"\",$L$15-3)","v":"2013-06-20"},{"$f":"IF($L$15=0,\"\",$L$15-2)","v":"2013-06-21"},{"$f":"IF($L$15=0,\"\",$L$15-1)","v":"2013-06-22"},{"$f":"IF($L$15=0,\"\",$L$15)","v":"2013-06-23"}]
[{"$nulls":13},{"$f":"SUM(G20:M20)","v":0},null,{"$f":"N20+O20","v":0}]
[{"$nulls":13},{"$f":"SUM(G21:M21)","v":0},null,{"$f":"N21+O21","v":0}]
[{"$nulls":13},0,null,0]
[{"$nulls":13},0,null,0]
[{"$nulls":13},0,null,0]
[{"$nulls":13},0,null,0]
[{"$nulls":13},0,null,0]
[{"$nulls":13},0,null,0]
[{"$nulls":13},0,null,0]
[{"$nulls":13},0,null,0]
[{"$nulls":13},0,null,0]
[{"$nulls":13},0,null,0]
[{"$nulls":13},0,null,0]
[{"$nulls":13},0,null,0]
[{"$nulls":13},0,null,0]
[{"$nulls":13},0,null,0]
[{"$nulls":13},0,null,0]
[{"$nulls":13},0,null,0]
[{"$nulls":13},0,null,0]
[{"$nulls":13},0,null,0]
[{"$nulls":13},0,null,0]
["Total Hours",{"$nulls":5},{"$f":"SUM(G20:G40)","v":0},{"$f":"SUM(H20:H40)","v":0},0,0,0,0,0,{"$f":"SUM(G41:M41)","v":0},{"$f":"SUM(O20:O40)","v":0},0]
["Reported Hours",null,null,{"$f":"N41","v":0},{"$nulls":3},"Overtime",null,null,{"$f":"O41","v":0}]
{"$rows_empty":7}
[{"$nulls":7},"Employee's signature",{"$nulls":6},"Date"]
[]
[{"$nulls":7},"Manager's signature",{"$nulls":6},"Date"]

{"sheet":"EULA","index":3,"n_rows":55,"n_cols":9,"rows_kept":55,"merged":[[0,0,0,8],[4,0,4,8],[5,0,5,8],[6,0,6,8],[8,0,8,8],[9,0,9,8],[10,0,10,8],[12,0,12,8],[13,0,13,8],[14,0,14,8],[16,0,16,8],[17,0,17,8],[19,0,19,8],[20,0,20,8],[21,0,21,8],[22,0,22,8],[23,0,23,8],[28,0,28,8],[29,0,29,8],[30,0,30,8],[31,0,31,8],[32,0,32,8],[34,0,34,8],[35,0,35,8],[36,0,36,8],[38,0,38,8],[39,0,39,8],[40,0,40,8],[41,0,41,8],[42,0,42,8],[43,0,43,8],[44,0,44,8],[45,0,45,8],[46,0,46,8],[52,0,52,8],[53,0,53,8]]}
["Terms of Use - EULA"]
[]
[{"$nulls":8},"© 2013 Spreadsheet123 LTD. All rights reserved"]
[]
["IMPORTANT—READ CAREFULLY:"]
["This End-User License Agreement (”EULA”) is a legal agreement between you and Spreadsheet123.com that"]
["covers all Microsoft Excel and OpenOffice.org templates or spreadsheets (”TEMPLATES”) and software (\"SOFTWARE\") made"]
["by Spreadsheet123.com."]
[]
["By downloading, copying, accessing or otherwise using any TEMPLATES or/and SOFTWARE, you agree to be bound by the"]
["terms of this EULA."]
[]
["TEMPLATES LICENSE"]
["This TEMPLATE is protected by copyright laws and international copyright treaties, as well as other intellectual"]
["property laws and treaties. Each TEMPLATE is licensed, not sold."]
[]
["1. GRANT OF LICENSE."]
["This EULA grants you the right to download this TEMPLATE free of charge for personal use or use within your company"]
["or organization."]
["You may customize this TEMPLATE with you personal information and use for its intended purpose in personal calculations"]
["documentation or/and communications, but you may not remove or alter any logo, trademark, copyright, hyperlinks, "]
["disclaimers, terms of use or other proprietary notices within this TEMPLATE."]
["You may not sell, resell, license, rent, lease, lend or otherwise transfer for value without written"]
["permission of SPREADSHEET123.COM"]
["You may not distribute this TEMPLATE in any stand-alone products that contain only the TEMPLATE, or as part of any other "]
["product. You may not copy or post any TEMPLATE on any network computer or broadcast it in any media without"]
["written permission of SPREADSHEET123.COM."]
[]
["2. RESERVATION OF RIGHTS."]
["All title and copyrights in and to the Template, and any copies of the Template, are owned by Spreadsheet123.com. "]
["All rights not expressly granted are reserved by Spreadsheet123.com. In particular, this EULA does not grant you any "]
["rights in connection with any trademarks or service marks of Spreadsheet123.com. Use of any Template for any purpose"]
["other than expressly permitted in this EULA is prohibited, and may result in severe civil and criminal penalties."]
[]
["3. TERMINATION."]
["Without prejudice to any other rights, Spreadsheet123.com may terminate this EULA if you fail to comply with the"]
["terms and conditions of this EULA. In such event, you must destroy all copies of any TEMPLATE."]
[]
["4. NOTICE SPECIFIC TO TEMPLATES."]
["SPREADSHEET123.COM MAKE NO REPRESENTATIONS "]
["ABOUT THE SUITABILITY OF THE TEMPLATES FOR ANY PURPOSE. ALL TEMPLATES ARE PROVIDED"]
[" “AS IS” WITHOUT WARRANTY OF ANY KIND. SPREADSHEET123.COM HEREBY DISCLAIM ALL "]
["WARRANTIES AND CONDITIONS WITH REGARD TO THE TEMPLATES, INCLUDING ALL IMPLIED"]
["WARRANTIES AND CONDITIONS OF MERCHANTABILITY, FITNESS FOR A PARTICULAR PURPOSE, TITLE"]
["AND NON-INFRINGEMENT. IN NO EVENT SHALL SPREADSHEET123.COM BE LIABLE FOR ANY SPECIAL,"]
["INDIRECT OR CONSEQUENTIAL DAMAGES OR ANY DAMAGES WHATSOEVER RESULTING FROM LOSS "]
["OF USE, DATA OR PROFITS, WHETHER IN AN ACTION OF CONTRACT, NEGLIGENCE OR OTHER TORTIOUS "]
[]
["ANY REFERENCES TO EVENTS, PEOPLE, PLACES, OR ENTITIES IN THE TEMPLATES IS PURELY FICTITIOUS AND NOT INTENDED TO REPRESENT ANY ACTUAL EVENT,"]
["PERSON, PLACE, OR ENTITY. SPREADSHEET123.COM  DISCLAIMS ANY LIKENESS OR SIMILARITIES TO ACTUAL EVENTS, PEOPLE, PLACES, OR ENTITIES, AND"]
["ANY SUCH LIKENESS OR SIMILARITIES ARE UNINTENTIONAL AND PURELY COINCIDENTAL."]
[]
["5. MISCELLANEOUS."]
["Some states do not allow the limitation or exclusion of liability for incidental or consequential"]
["damages, so the above limitation may not apply to you."]